BEGIN:VCALENDAR
VERSION:2.0
PRODID:-//TwojaStrona//Wydarzenia//PL
BEGIN:VEVENT
UID:27255@twojastrona.pl
DTSTART:20260831T000000Z
DTEND:20260831T235900Z
SUMMARY:KLASYFIKACYJNA RADA PEDAGOGICZNA
DESCRIPTION:godz.9.00 - klasyfikacyjna rada pedagogiczna po przeprowadzonych egzaminach poprawkowych
BEGIN:VALARM
TRIGGER:-P1D
ACTION:DISPLAY
DESCRIPTION:Przypomnienie o wydarzeniu
END:VALARM
END:VEVENT
END:VCALENDAR
