BEGIN:VCALENDAR
VERSION:2.0
PRODID:-//TwojaStrona//Wydarzenia//PL
BEGIN:VEVENT
UID:27253@twojastrona.pl
DTSTART:20260825T000000Z
DTEND:20260825T235900Z
SUMMARY:CZĘŚĆ USTNA EGZAMINU MATURALNEGO W SESJI POPRAWKOWEJ
DESCRIPTION:część ustna egzaminu maturalnego w sesji poprawkowej
BEGIN:VALARM
TRIGGER:-P1D
ACTION:DISPLAY
DESCRIPTION:Przypomnienie o wydarzeniu
END:VALARM
END:VEVENT
END:VCALENDAR
