BEGIN:VCALENDAR
VERSION:2.0
PRODID:-//TwojaStrona//Wydarzenia//PL
BEGIN:VEVENT
UID:27252@twojastrona.pl
DTSTART:20260824T000000Z
DTEND:20260824T235900Z
SUMMARY:CZĘŚĆ PISEMNA EGZAMINU MATURALNEGO W SESJI POPRAWKOWEJ
DESCRIPTION:godz.9.00 - część pisemna egzaminu maturalnego w sesji poprawkowej
BEGIN:VALARM
TRIGGER:-P1D
ACTION:DISPLAY
DESCRIPTION:Przypomnienie o wydarzeniu
END:VALARM
END:VEVENT
END:VCALENDAR
